BEGIN:VCALENDAR
VERSION:2.0
PRODID:-//eWorks - ECPv6.3.2//NONSGML v1.0//EN
CALSCALE:GREGORIAN
METHOD:PUBLISH
X-ORIGINAL-URL:https://eworksesi.org
X-WR-CALDESC:Events for eWorks
REFRESH-INTERVAL;VALUE=DURATION:PT1H
X-Robots-Tag:noindex
X-PUBLISHED-TTL:PT1H
BEGIN:VTIMEZONE
TZID:UTC
BEGIN:STANDARD
TZOFFSETFROM:+0000
TZOFFSETTO:+0000
TZNAME:UTC
DTSTART:20260101T000000
END:STANDARD
END:VTIMEZONE
BEGIN:VEVENT
DTSTART;TZID=UTC:20260516T083000
DTEND;TZID=UTC:20260516T113000
DTSTAMP:20260419T232756
CREATED:20240208T135317Z
LAST-MODIFIED:20260223T160024Z
UID:3580-1778920200-1778931000@eworksesi.org
SUMMARY:Woodridge Electronics Recycling Event
DESCRIPTION:8700 Havens Dr. Woodridge\, IL 60517
URL:https://eworksesi.org/event/woodridge-electronics-recycling-event-2/
LOCATION:About eWorks
CATEGORIES:Illinois
END:VEVENT
END:VCALENDAR