BEGIN:VCALENDAR
VERSION:2.0
PRODID:-//eWorks - ECPv6.3.2//NONSGML v1.0//EN
CALSCALE:GREGORIAN
METHOD:PUBLISH
X-WR-CALNAME:eWorks
X-ORIGINAL-URL:https://eworksesi.org
X-WR-CALDESC:Events for eWorks
REFRESH-INTERVAL;VALUE=DURATION:PT1H
X-Robots-Tag:noindex
X-PUBLISHED-TTL:PT1H
BEGIN:VTIMEZONE
TZID:UTC
BEGIN:STANDARD
TZOFFSETFROM:+0000
TZOFFSETTO:+0000
TZNAME:UTC
DTSTART:20260101T000000
END:STANDARD
END:VTIMEZONE
BEGIN:VEVENT
DTSTART;TZID=UTC:20260829T080000
DTEND;TZID=UTC:20260829T120000
DTSTAMP:20260420T022011
CREATED:20260223T155233Z
LAST-MODIFIED:20260223T155237Z
UID:3965-1787990400-1788004800@eworksesi.org
SUMMARY:St. Charles Recycling Event
DESCRIPTION:540 S Randall Road\, St. Charles\, IL 60174 \nhttps://www.kanecountyil.gov/Recycling/Pages/recyclingEvents.aspx
URL:https://eworksesi.org/event/st-charles-recycling-event-2/
LOCATION:About eWorks
CATEGORIES:Illinois
END:VEVENT
END:VCALENDAR