BEGIN:VCALENDAR
VERSION:2.0
PRODID:-//eWorks - ECPv6.3.2//NONSGML v1.0//EN
CALSCALE:GREGORIAN
METHOD:PUBLISH
X-ORIGINAL-URL:https://eworksesi.org
X-WR-CALDESC:Events for eWorks
REFRESH-INTERVAL;VALUE=DURATION:PT1H
X-Robots-Tag:noindex
X-PUBLISHED-TTL:PT1H
BEGIN:VTIMEZONE
TZID:UTC
BEGIN:STANDARD
TZOFFSETFROM:+0000
TZOFFSETTO:+0000
TZNAME:UTC
DTSTART:20260101T000000
END:STANDARD
END:VTIMEZONE
BEGIN:VEVENT
DTSTART;TZID=UTC:20260905T090000
DTEND;TZID=UTC:20260905T120000
DTSTAMP:20260420T033803
CREATED:20240208T174611Z
LAST-MODIFIED:20260223T154409Z
UID:3786-1788598800-1788609600@eworksesi.org
SUMMARY:North Aurora Police Dept.
DESCRIPTION:200 S LincolnwayNorth Aurora\, IL 60542 \nhttps://www.kanecountyil.gov/Recycling/Pages/recyclingEvents.aspx
URL:https://eworksesi.org/event/aurora-electronics-recycling-event-6/
LOCATION:About eWorks
CATEGORIES:Illinois
END:VEVENT
END:VCALENDAR