BEGIN:VCALENDAR
VERSION:2.0
PRODID:-//eWorks - ECPv6.3.2//NONSGML v1.0//EN
CALSCALE:GREGORIAN
METHOD:PUBLISH
X-WR-CALNAME:eWorks
X-ORIGINAL-URL:https://eworksesi.org
X-WR-CALDESC:Events for eWorks
REFRESH-INTERVAL;VALUE=DURATION:PT1H
X-Robots-Tag:noindex
X-PUBLISHED-TTL:PT1H
BEGIN:VTIMEZONE
TZID:UTC
BEGIN:STANDARD
TZOFFSETFROM:+0000
TZOFFSETTO:+0000
TZNAME:UTC
DTSTART:20260101T000000
END:STANDARD
END:VTIMEZONE
BEGIN:VEVENT
DTSTART;TZID=UTC:20260425T080000
DTEND;TZID=UTC:20260425T120000
DTSTAMP:20260425T155916
CREATED:20240208T135533Z
LAST-MODIFIED:20260223T160410Z
UID:3586-1777104000-1777118400@eworksesi.org
SUMMARY:City of Elmhurst Electronics Recycling Event
DESCRIPTION:985 S Riverside Dr. Elmhurst\, IL 60126 \nhttps://www.elmhurst.org/
URL:https://eworksesi.org/event/city-of-elmhurst-electronics-recycling-event-3/
CATEGORIES:Illinois
END:VEVENT
BEGIN:VEVENT
DTSTART;TZID=UTC:20260425T100000
DTEND;TZID=UTC:20260425T120000
DTSTAMP:20260425T155916
CREATED:20240208T141451Z
LAST-MODIFIED:20260223T160328Z
UID:3614-1777111200-1777118400@eworksesi.org
SUMMARY:Glendale Heights Electronics Recycling Event
DESCRIPTION:240 Civic Center Plaza\, Glendale Heights\, IL 60139
URL:https://eworksesi.org/event/glendale-heights-electronics-recycling-event-2/
LOCATION:About eWorks
CATEGORIES:Illinois
END:VEVENT
END:VCALENDAR